BEGIN:VCALENDAR
VERSION:2.0
PRODID:icalendar-ruby
CALSCALE:GREGORIAN
METHOD:PUBLISH
BEGIN:VEVENT
DTSTAMP:20260422T065632Z
UID:139-2200833@bethelbiblechurch.ca
DTSTART:20251109T150000Z
DTEND:20251109T160000Z
CLASS:PUBLIC
CREATED:20260421T193151
DESCRIPTION:Children's classes are for all ages covering JK-Grade 12.\nAll 
 are welcome!
LAST-MODIFIED:20260421T193151
LOCATION:Main Floor
SUMMARY:Children Sunday School
URL;VALUE=URI:https://www.bethelbiblechurch.ca/events/children-sunday-schoo
 l/2025-11-09
ATTACH;FILENAME=children-21.jpg;FMTTYPE=image/jpeg:https://dq5pwpg1q8ru0.cl
 oudfront.net/2022/10/02/09/03/46/1968c1c1-22f1-4893-92ed-1fe1bf4092cd/chil
 dren-21.jpg
END:VEVENT
END:VCALENDAR
