BEGIN:VCALENDAR
VERSION:2.0
PRODID:icalendar-ruby
CALSCALE:GREGORIAN
METHOD:PUBLISH
BEGIN:VEVENT
DTSTAMP:20260426T020731Z
UID:224-2239078@bethelbiblechurch.ca
DTSTART:20260704T170000Z
DTEND:20260704T180000Z
CLASS:PUBLIC
CREATED:20260425T195322
DESCRIPTION:
LAST-MODIFIED:20260425T195322
LOCATION:
SUMMARY:Bring Your Questions\, We have Answers
URL;VALUE=URI:https://www.bethelbiblechurch.ca/events/bring-your-questions-
 we-have-answers/2026-07-04
END:VEVENT
END:VCALENDAR
