BEGIN:VCALENDAR
VERSION:2.0
PRODID:icalendar-ruby
CALSCALE:GREGORIAN
METHOD:PUBLISH
BEGIN:VEVENT
DTSTAMP:20260425T190012Z
UID:224-2235922@bethelbiblechurch.ca
DTSTART:20260606T170000Z
DTEND:20260606T180000Z
CLASS:PUBLIC
CREATED:20260425T142829
DESCRIPTION:
LAST-MODIFIED:20260425T142829
LOCATION:
SUMMARY:Bring Your Questions\, We have Answers
URL;VALUE=URI:https://www.bethelbiblechurch.ca/events/bring-your-questions-
 we-have-answers/2026-06-06
END:VEVENT
END:VCALENDAR
