BEGIN:VCALENDAR
VERSION:2.0
PRODID:icalendar-ruby
CALSCALE:GREGORIAN
METHOD:PUBLISH
BEGIN:VEVENT
DTSTAMP:20260425T171458Z
UID:224-2234346@bethelbiblechurch.ca
DTSTART:20260530T170000Z
DTEND:20260530T180000Z
CLASS:PUBLIC
CREATED:20260425T114820
DESCRIPTION:
LAST-MODIFIED:20260425T114820
LOCATION:
SUMMARY:Bring Your Questions\, We have Answers
URL;VALUE=URI:https://www.bethelbiblechurch.ca/events/bring-your-questions-
 we-have-answers/2026-05-30
END:VEVENT
END:VCALENDAR
