BEGIN:VCALENDAR
VERSION:2.0
PRODID:icalendar-ruby
CALSCALE:GREGORIAN
METHOD:PUBLISH
BEGIN:VEVENT
DTSTAMP:20260425T153923Z
UID:224-2232770@bethelbiblechurch.ca
DTSTART:20260523T170000Z
DTEND:20260523T180000Z
CLASS:PUBLIC
CREATED:20260425T090746
DESCRIPTION:
LAST-MODIFIED:20260425T090746
LOCATION:
SUMMARY:Bring Your Questions\, We have Answers
URL;VALUE=URI:https://www.bethelbiblechurch.ca/events/bring-your-questions-
 we-have-answers/2026-05-23
END:VEVENT
END:VCALENDAR
