BEGIN:VCALENDAR
VERSION:2.0
PRODID:icalendar-ruby
CALSCALE:GREGORIAN
METHOD:PUBLISH
BEGIN:VEVENT
DTSTAMP:20260425T121337Z
UID:224-2231193@bethelbiblechurch.ca
DTSTART:20260509T170000Z
DTEND:20260509T180000Z
CLASS:PUBLIC
CREATED:20260425T062610
DESCRIPTION:
LAST-MODIFIED:20260425T062610
LOCATION:
SUMMARY:Bring Your Questions\, We have Answers
URL;VALUE=URI:https://www.bethelbiblechurch.ca/events/bring-your-questions-
 we-have-answers/2026-05-09
END:VEVENT
END:VCALENDAR
