BEGIN:VCALENDAR
VERSION:2.0
PRODID:icalendar-ruby
CALSCALE:GREGORIAN
METHOD:PUBLISH
BEGIN:VEVENT
DTSTAMP:20260420T024228Z
UID:188-2176228@bethelbiblechurch.ca
DTSTART:20260419T150000Z
DTEND:20260419T160000Z
CLASS:PUBLIC
CREATED:20260419T110631
DESCRIPTION:
LAST-MODIFIED:20260419T110631
LOCATION:
SUMMARY:Baptismal Service
URL;VALUE=URI:https://www.bethelbiblechurch.ca/events/baptismal-service/202
 6-04-19
END:VEVENT
END:VCALENDAR
